BEGIN:VCALENDAR
VERSION:2.0
PRODID:-//Dream of Dance - ECPv6.15.20//NONSGML v1.0//EN
CALSCALE:GREGORIAN
METHOD:PUBLISH
X-ORIGINAL-URL:https://www.dreamofdance.co.uk
X-WR-CALDESC:Events for Dream of Dance
REFRESH-INTERVAL;VALUE=DURATION:PT1H
X-Robots-Tag:noindex
X-PUBLISHED-TTL:PT1H
BEGIN:VTIMEZONE
TZID:UTC
BEGIN:STANDARD
TZOFFSETFROM:+0000
TZOFFSETTO:+0000
TZNAME:UTC
DTSTART:20240101T000000
END:STANDARD
END:VTIMEZONE
BEGIN:VEVENT
DTSTART;TZID=UTC:20260109T200000
DTEND;TZID=UTC:20260109T220000
DTSTAMP:20260423T021914
CREATED:20260105T142803Z
LAST-MODIFIED:20260105T143234Z
UID:10000558-1767988800-1767996000@www.dreamofdance.co.uk
SUMMARY:Workshop: Waltz and Rumba
DESCRIPTION:We host technique workshops at our Woodhouse College Dance Studio (North Finchley\, London N12 9EY) . Are you looking for a way to improve your skills and confidence on the dance floor? Do you want to impress your partner? Then you should sign up for our technique workshops! \nFollow the QR code or the link below for payment.  Please bring the Transaction code as proof of payment. \nPayment QR code — Friday Workshop x1 £25\nClick this link to pay using Sumup for 1x ticket at £25 \n  \nVenue: Woodhouse College Dance Studio\, N12 9EY. Block of 4 classes for £80\, pay at the door for £25
URL:https://www.dreamofdance.co.uk/event/workshop-waltz-and-rumba/2026-01-09/
LOCATION:Woodhouse College\, Woodhouse College\, London\, London\, N12 9EY\, United Kingdom
CATEGORIES:Workshop
ATTACH;FMTTYPE=image/jpeg:https://www.dreamofdance.co.uk/wp-content/uploads/2023/11/woodhouse_studio.jpg
ORGANIZER;CN="Joan Lee":MAILTO:info@dreamofdance.co.uk
END:VEVENT
BEGIN:VEVENT
DTSTART;TZID=UTC:20251213T190000
DTEND;TZID=UTC:20251213T223000
DTSTAMP:20260423T021914
CREATED:20231004T134047Z
LAST-MODIFIED:20250930T210508Z
UID:10000001-1765652400-1765665000@www.dreamofdance.co.uk
SUMMARY:Christmas Party 2025
DESCRIPTION:Dream of Dance Christmas Party 2025\nGet ready for the social event of the season! \nJoin us for an unforgettable evening at the Dream of Dance Christmas Party 2025. We’re turning up the holiday spirit with excellent dance music\, a delicious festive feast\, and a fun\, exciting atmosphere where you can dance the night away. \nIt’s the perfect opportunity to celebrate with old friends and meet new ones on the dance floor. Let’s create magical memories together! \nYour festive night of dance\, dining\, and joy awaits! \nBook early to reserve your space!  Early bird: £20\, Pay at the door: £25
URL:https://www.dreamofdance.co.uk/event/christmas-party-2025/
LOCATION:Woodhouse College\, Woodhouse College\, London\, London\, N12 9EY\, United Kingdom
CATEGORIES:Dance Party
ATTACH;FMTTYPE=image/png:https://www.dreamofdance.co.uk/wp-content/uploads/2023/10/Xmas_2025.png
ORGANIZER;CN="Joan Lee":MAILTO:info@dreamofdance.co.uk
END:VEVENT
BEGIN:VEVENT
DTSTART;TZID=UTC:20251206T143000
DTEND;TZID=UTC:20251206T163000
DTSTAMP:20260423T021914
CREATED:20251113T220758Z
LAST-MODIFIED:20251113T221423Z
UID:10000331-1765031400-1765038600@www.dreamofdance.co.uk
SUMMARY:Saturday Social Dance
DESCRIPTION:Come join us for relaxing social dance to meet new friends and practise your new steps!
URL:https://www.dreamofdance.co.uk/event/saturday-social-dance-2-2/2025-12-06/
LOCATION:Woodhouse College\, Woodhouse College\, London\, London\, N12 9EY\, United Kingdom
CATEGORIES:Social Dance
ATTACH;FMTTYPE=image/jpeg:https://www.dreamofdance.co.uk/wp-content/uploads/2023/11/Event5-dj.jpg
ORGANIZER;CN="Joan Lee":MAILTO:info@dreamofdance.co.uk
END:VEVENT
BEGIN:VEVENT
DTSTART;TZID=UTC:20251205T200000
DTEND;TZID=UTC:20251205T220000
DTSTAMP:20260423T021914
CREATED:20251123T234414Z
LAST-MODIFIED:20251124T185412Z
UID:10000337-1764964800-1764972000@www.dreamofdance.co.uk
SUMMARY:Workshop: Quickstep and Samba
DESCRIPTION:Are you looking for a way to improve your skills and confidence on the dance floor? Do you want to impress your partner? Then you should sign up for our technique workshops! \nFollow the QR code or the link below for payment.  Please bring the Transaction code as proof of payment. \nPayment QR code — Friday Workshop x1 £25\nClick this link to pay using Sumup for 1x ticket at £25 \n  \nVenue: Woodhouse College Dance Studio\, N12 9EY. Block of 4 classes for £80\, pay at the door for £25
URL:https://www.dreamofdance.co.uk/event/workshop-quick-and-samba/2025-12-05/
LOCATION:Woodhouse College\, Woodhouse College\, London\, London\, N12 9EY\, United Kingdom
CATEGORIES:Workshop
ATTACH;FMTTYPE=image/jpeg:https://www.dreamofdance.co.uk/wp-content/uploads/2023/11/woodhouse_studio.jpg
ORGANIZER;CN="Joan Lee":MAILTO:info@dreamofdance.co.uk
END:VEVENT
BEGIN:VEVENT
DTSTART;TZID=UTC:20251128T200000
DTEND;TZID=UTC:20251128T220000
DTSTAMP:20260423T021914
CREATED:20251123T234414Z
LAST-MODIFIED:20251124T185412Z
UID:10000336-1764360000-1764367200@www.dreamofdance.co.uk
SUMMARY:Workshop: Quickstep and Samba
DESCRIPTION:Are you looking for a way to improve your skills and confidence on the dance floor? Do you want to impress your partner? Then you should sign up for our technique workshops! \nFollow the QR code or the link below for payment.  Please bring the Transaction code as proof of payment. \nPayment QR code — Friday Workshop x1 £25\nClick this link to pay using Sumup for 1x ticket at £25 \n  \nVenue: Woodhouse College Dance Studio\, N12 9EY. Block of 4 classes for £80\, pay at the door for £25
URL:https://www.dreamofdance.co.uk/event/workshop-quick-and-samba/2025-11-28/
LOCATION:Woodhouse College\, Woodhouse College\, London\, London\, N12 9EY\, United Kingdom
CATEGORIES:Workshop
ATTACH;FMTTYPE=image/jpeg:https://www.dreamofdance.co.uk/wp-content/uploads/2023/11/woodhouse_studio.jpg
ORGANIZER;CN="Joan Lee":MAILTO:info@dreamofdance.co.uk
END:VEVENT
BEGIN:VEVENT
DTSTART;TZID=UTC:20251121T200000
DTEND;TZID=UTC:20251121T220000
DTSTAMP:20260423T021914
CREATED:20251123T235023Z
LAST-MODIFIED:20251123T235023Z
UID:10000343-1763755200-1763762400@www.dreamofdance.co.uk
SUMMARY:Workshop: Waltz and Chacha
DESCRIPTION:Are you looking for a way to improve your skills and confidence on the dance floor? Do you want to impress your partner? Then you should sign up for our technique workshops! \nVenue: Woodhouse College Dance Studio\, N12 9EY. Block of 4 classes for £80\, pay at the door for £25
URL:https://www.dreamofdance.co.uk/event/workshop-waltz-and-chacha/2025-11-21/
LOCATION:Woodhouse College\, Woodhouse College\, London\, London\, N12 9EY\, United Kingdom
CATEGORIES:Workshop
ATTACH;FMTTYPE=image/jpeg:https://www.dreamofdance.co.uk/wp-content/uploads/2023/11/woodhouse_studio.jpg
ORGANIZER;CN="Joan Lee":MAILTO:info@dreamofdance.co.uk
END:VEVENT
BEGIN:VEVENT
DTSTART;TZID=UTC:20251115T143000
DTEND;TZID=UTC:20251115T163000
DTSTAMP:20260423T021914
CREATED:20251113T220758Z
LAST-MODIFIED:20251113T221423Z
UID:10000330-1763217000-1763224200@www.dreamofdance.co.uk
SUMMARY:Saturday Social Dance
DESCRIPTION:Come join us for relaxing social dance to meet new friends and practise your new steps!
URL:https://www.dreamofdance.co.uk/event/saturday-social-dance-2-2/2025-11-15/
LOCATION:Woodhouse College\, Woodhouse College\, London\, London\, N12 9EY\, United Kingdom
CATEGORIES:Social Dance
ATTACH;FMTTYPE=image/jpeg:https://www.dreamofdance.co.uk/wp-content/uploads/2023/11/Event5-dj.jpg
ORGANIZER;CN="Joan Lee":MAILTO:info@dreamofdance.co.uk
END:VEVENT
BEGIN:VEVENT
DTSTART;TZID=UTC:20251114T200000
DTEND;TZID=UTC:20251114T220000
DTSTAMP:20260423T021914
CREATED:20251123T235023Z
LAST-MODIFIED:20251123T235023Z
UID:10000342-1763150400-1763157600@www.dreamofdance.co.uk
SUMMARY:Workshop: Waltz and Chacha
DESCRIPTION:Are you looking for a way to improve your skills and confidence on the dance floor? Do you want to impress your partner? Then you should sign up for our technique workshops! \nVenue: Woodhouse College Dance Studio\, N12 9EY. Block of 4 classes for £80\, pay at the door for £25
URL:https://www.dreamofdance.co.uk/event/workshop-waltz-and-chacha/2025-11-14/
LOCATION:Woodhouse College\, Woodhouse College\, London\, London\, N12 9EY\, United Kingdom
CATEGORIES:Workshop
ATTACH;FMTTYPE=image/jpeg:https://www.dreamofdance.co.uk/wp-content/uploads/2023/11/woodhouse_studio.jpg
ORGANIZER;CN="Joan Lee":MAILTO:info@dreamofdance.co.uk
END:VEVENT
BEGIN:VEVENT
DTSTART;TZID=UTC:20251108T143000
DTEND;TZID=UTC:20251108T163000
DTSTAMP:20260423T021914
CREATED:20250916T190627Z
LAST-MODIFIED:20251124T170013Z
UID:10000329-1762612200-1762619400@www.dreamofdance.co.uk
SUMMARY:Saturday Social Dance
DESCRIPTION:Come join us for relaxing social dance to meet new friends and practise your new steps!
URL:https://www.dreamofdance.co.uk/event/saturday-social-dance-2/2025-11-08/
LOCATION:Woodhouse College\, Woodhouse College\, London\, London\, N12 9EY\, United Kingdom
CATEGORIES:Social Dance
ATTACH;FMTTYPE=image/jpeg:https://www.dreamofdance.co.uk/wp-content/uploads/2023/11/Event5-dj.jpg
ORGANIZER;CN="Joan Lee":MAILTO:info@dreamofdance.co.uk
END:VEVENT
BEGIN:VEVENT
DTSTART;TZID=UTC:20251107T200000
DTEND;TZID=UTC:20251107T220000
DTSTAMP:20260423T021914
CREATED:20251123T235023Z
LAST-MODIFIED:20251123T235023Z
UID:10000341-1762545600-1762552800@www.dreamofdance.co.uk
SUMMARY:Workshop: Waltz and Chacha
DESCRIPTION:Are you looking for a way to improve your skills and confidence on the dance floor? Do you want to impress your partner? Then you should sign up for our technique workshops! \nVenue: Woodhouse College Dance Studio\, N12 9EY. Block of 4 classes for £80\, pay at the door for £25
URL:https://www.dreamofdance.co.uk/event/workshop-waltz-and-chacha/2025-11-07/
LOCATION:Woodhouse College\, Woodhouse College\, London\, London\, N12 9EY\, United Kingdom
CATEGORIES:Workshop
ATTACH;FMTTYPE=image/jpeg:https://www.dreamofdance.co.uk/wp-content/uploads/2023/11/woodhouse_studio.jpg
ORGANIZER;CN="Joan Lee":MAILTO:info@dreamofdance.co.uk
END:VEVENT
BEGIN:VEVENT
DTSTART;TZID=UTC:20251031T200000
DTEND;TZID=UTC:20251031T220000
DTSTAMP:20260423T021914
CREATED:20251123T235023Z
LAST-MODIFIED:20251123T235023Z
UID:10000340-1761940800-1761948000@www.dreamofdance.co.uk
SUMMARY:Workshop: Waltz and Chacha
DESCRIPTION:Are you looking for a way to improve your skills and confidence on the dance floor? Do you want to impress your partner? Then you should sign up for our technique workshops! \nVenue: Woodhouse College Dance Studio\, N12 9EY. Block of 4 classes for £80\, pay at the door for £25
URL:https://www.dreamofdance.co.uk/event/workshop-waltz-and-chacha/2025-10-31/
LOCATION:Woodhouse College\, Woodhouse College\, London\, London\, N12 9EY\, United Kingdom
CATEGORIES:Workshop
ATTACH;FMTTYPE=image/jpeg:https://www.dreamofdance.co.uk/wp-content/uploads/2023/11/woodhouse_studio.jpg
ORGANIZER;CN="Joan Lee":MAILTO:info@dreamofdance.co.uk
END:VEVENT
BEGIN:VEVENT
DTSTART;TZID=UTC:20251025T143000
DTEND;TZID=UTC:20251025T163000
DTSTAMP:20260423T021914
CREATED:20250916T190446Z
LAST-MODIFIED:20250916T190446Z
UID:10000326-1761402600-1761409800@www.dreamofdance.co.uk
SUMMARY:Saturday Social Dance
DESCRIPTION:Come join us for relaxing social dance to meet new friends and practise your new steps!
URL:https://www.dreamofdance.co.uk/event/saturday-social-dance/2025-10-25/
LOCATION:Woodhouse College\, Woodhouse College\, London\, London\, N12 9EY\, United Kingdom
CATEGORIES:Social Dance
ATTACH;FMTTYPE=image/jpeg:https://www.dreamofdance.co.uk/wp-content/uploads/2023/11/Event5-dj.jpg
ORGANIZER;CN="Joan Lee":MAILTO:info@dreamofdance.co.uk
END:VEVENT
BEGIN:VEVENT
DTSTART;TZID=UTC:20251024T200000
DTEND;TZID=UTC:20251024T220000
DTSTAMP:20260423T021914
CREATED:20250916T190050Z
LAST-MODIFIED:20250916T190050Z
UID:10000295-1761336000-1761343200@www.dreamofdance.co.uk
SUMMARY:Workshop: Tango and Jive
DESCRIPTION:Are you looking for a way to improve your skills and confidence on the dance floor? Do you want to impress your partner? Then you should sign up for our technique workshops! \nVenue: Woodhouse College Dance Studio\, N12 9EY. Block of 4 classes for £80\, pay at the door for £25
URL:https://www.dreamofdance.co.uk/event/workshop-tango-and-jive/2025-10-24/
LOCATION:Woodhouse College\, Woodhouse College\, London\, London\, N12 9EY\, United Kingdom
CATEGORIES:Workshop
ATTACH;FMTTYPE=image/jpeg:https://www.dreamofdance.co.uk/wp-content/uploads/2023/11/woodhouse_studio.jpg
ORGANIZER;CN="Joan Lee":MAILTO:info@dreamofdance.co.uk
END:VEVENT
BEGIN:VEVENT
DTSTART;TZID=UTC:20251017T200000
DTEND;TZID=UTC:20251017T220000
DTSTAMP:20260423T021914
CREATED:20250916T190050Z
LAST-MODIFIED:20250916T190050Z
UID:10000294-1760731200-1760738400@www.dreamofdance.co.uk
SUMMARY:Workshop: Tango and Jive
DESCRIPTION:Are you looking for a way to improve your skills and confidence on the dance floor? Do you want to impress your partner? Then you should sign up for our technique workshops! \nVenue: Woodhouse College Dance Studio\, N12 9EY. Block of 4 classes for £80\, pay at the door for £25
URL:https://www.dreamofdance.co.uk/event/workshop-tango-and-jive/2025-10-17/
LOCATION:Woodhouse College\, Woodhouse College\, London\, London\, N12 9EY\, United Kingdom
CATEGORIES:Workshop
ATTACH;FMTTYPE=image/jpeg:https://www.dreamofdance.co.uk/wp-content/uploads/2023/11/woodhouse_studio.jpg
ORGANIZER;CN="Joan Lee":MAILTO:info@dreamofdance.co.uk
END:VEVENT
BEGIN:VEVENT
DTSTART;TZID=UTC:20251011T143000
DTEND;TZID=UTC:20251011T163000
DTSTAMP:20260423T021914
CREATED:20250916T190446Z
LAST-MODIFIED:20250916T190446Z
UID:10000325-1760193000-1760200200@www.dreamofdance.co.uk
SUMMARY:Saturday Social Dance
DESCRIPTION:Come join us for relaxing social dance to meet new friends and practise your new steps!
URL:https://www.dreamofdance.co.uk/event/saturday-social-dance/2025-10-11/
LOCATION:Woodhouse College\, Woodhouse College\, London\, London\, N12 9EY\, United Kingdom
CATEGORIES:Social Dance
ATTACH;FMTTYPE=image/jpeg:https://www.dreamofdance.co.uk/wp-content/uploads/2023/11/Event5-dj.jpg
ORGANIZER;CN="Joan Lee":MAILTO:info@dreamofdance.co.uk
END:VEVENT
BEGIN:VEVENT
DTSTART;TZID=UTC:20251010T200000
DTEND;TZID=UTC:20251010T220000
DTSTAMP:20260423T021914
CREATED:20250916T190050Z
LAST-MODIFIED:20250916T190050Z
UID:10000293-1760126400-1760133600@www.dreamofdance.co.uk
SUMMARY:Workshop: Tango and Jive
DESCRIPTION:Are you looking for a way to improve your skills and confidence on the dance floor? Do you want to impress your partner? Then you should sign up for our technique workshops! \nVenue: Woodhouse College Dance Studio\, N12 9EY. Block of 4 classes for £80\, pay at the door for £25
URL:https://www.dreamofdance.co.uk/event/workshop-tango-and-jive/2025-10-10/
LOCATION:Woodhouse College\, Woodhouse College\, London\, London\, N12 9EY\, United Kingdom
CATEGORIES:Workshop
ATTACH;FMTTYPE=image/jpeg:https://www.dreamofdance.co.uk/wp-content/uploads/2023/11/woodhouse_studio.jpg
ORGANIZER;CN="Joan Lee":MAILTO:info@dreamofdance.co.uk
END:VEVENT
BEGIN:VEVENT
DTSTART;TZID=UTC:20251003T200000
DTEND;TZID=UTC:20251003T220000
DTSTAMP:20260423T021914
CREATED:20250916T190050Z
LAST-MODIFIED:20250916T190050Z
UID:10000292-1759521600-1759528800@www.dreamofdance.co.uk
SUMMARY:Workshop: Tango and Jive
DESCRIPTION:Are you looking for a way to improve your skills and confidence on the dance floor? Do you want to impress your partner? Then you should sign up for our technique workshops! \nVenue: Woodhouse College Dance Studio\, N12 9EY. Block of 4 classes for £80\, pay at the door for £25
URL:https://www.dreamofdance.co.uk/event/workshop-tango-and-jive/2025-10-03/
LOCATION:Woodhouse College\, Woodhouse College\, London\, London\, N12 9EY\, United Kingdom
CATEGORIES:Workshop
ATTACH;FMTTYPE=image/jpeg:https://www.dreamofdance.co.uk/wp-content/uploads/2023/11/woodhouse_studio.jpg
ORGANIZER;CN="Joan Lee":MAILTO:info@dreamofdance.co.uk
END:VEVENT
BEGIN:VEVENT
DTSTART;TZID=UTC:20250926T200000
DTEND;TZID=UTC:20250926T220000
DTSTAMP:20260423T021914
CREATED:20231105T090829Z
LAST-MODIFIED:20250916T185338Z
UID:10000291-1758916800-1758924000@www.dreamofdance.co.uk
SUMMARY:Workshop: Foxtrot and Rumba
DESCRIPTION:Are you looking for a way to improve your skills and confidence on the dance floor? Do you want to impress your partner? Then you should sign up for our technique workshops! \nVenue: Woodhouse College Dance Studio\, N12 9EY. Block of 4 classes for £80\, pay at the door for £25
URL:https://www.dreamofdance.co.uk/event/friday-workshop/2025-09-26/
LOCATION:Woodhouse College\, Woodhouse College\, London\, London\, N12 9EY\, United Kingdom
CATEGORIES:Workshop
ATTACH;FMTTYPE=image/jpeg:https://www.dreamofdance.co.uk/wp-content/uploads/2023/11/woodhouse_studio.jpg
ORGANIZER;CN="Joan Lee":MAILTO:info@dreamofdance.co.uk
END:VEVENT
BEGIN:VEVENT
DTSTART;TZID=UTC:20250920T143000
DTEND;TZID=UTC:20250920T163000
DTSTAMP:20260423T021914
CREATED:20231105T090649Z
LAST-MODIFIED:20250916T190343Z
UID:10000296-1758378600-1758385800@www.dreamofdance.co.uk
SUMMARY:Saturday Social Dance
DESCRIPTION:Come join us for relaxing social dance to meet new friends and practise your new steps!
URL:https://www.dreamofdance.co.uk/event/sat-social-dance/2025-09-20/
LOCATION:Woodhouse College\, Woodhouse College\, London\, London\, N12 9EY\, United Kingdom
CATEGORIES:Social Dance
ATTACH;FMTTYPE=image/jpeg:https://www.dreamofdance.co.uk/wp-content/uploads/2023/11/Event5-dj.jpg
ORGANIZER;CN="Joan Lee":MAILTO:info@dreamofdance.co.uk
END:VEVENT
BEGIN:VEVENT
DTSTART;TZID=UTC:20250919T200000
DTEND;TZID=UTC:20250919T220000
DTSTAMP:20260423T021914
CREATED:20231105T090829Z
LAST-MODIFIED:20250916T185338Z
UID:10000290-1758312000-1758319200@www.dreamofdance.co.uk
SUMMARY:Workshop: Foxtrot and Rumba
DESCRIPTION:Are you looking for a way to improve your skills and confidence on the dance floor? Do you want to impress your partner? Then you should sign up for our technique workshops! \nVenue: Woodhouse College Dance Studio\, N12 9EY. Block of 4 classes for £80\, pay at the door for £25
URL:https://www.dreamofdance.co.uk/event/friday-workshop/2025-09-19/
LOCATION:Woodhouse College\, Woodhouse College\, London\, London\, N12 9EY\, United Kingdom
CATEGORIES:Workshop
ATTACH;FMTTYPE=image/jpeg:https://www.dreamofdance.co.uk/wp-content/uploads/2023/11/woodhouse_studio.jpg
ORGANIZER;CN="Joan Lee":MAILTO:info@dreamofdance.co.uk
END:VEVENT
BEGIN:VEVENT
DTSTART;TZID=UTC:20250912T200000
DTEND;TZID=UTC:20250912T220000
DTSTAMP:20260423T021914
CREATED:20231105T090829Z
LAST-MODIFIED:20250916T185338Z
UID:10000289-1757707200-1757714400@www.dreamofdance.co.uk
SUMMARY:Workshop: Foxtrot and Rumba
DESCRIPTION:Are you looking for a way to improve your skills and confidence on the dance floor? Do you want to impress your partner? Then you should sign up for our technique workshops! \nVenue: Woodhouse College Dance Studio\, N12 9EY. Block of 4 classes for £80\, pay at the door for £25
URL:https://www.dreamofdance.co.uk/event/friday-workshop/2025-09-12/
LOCATION:Woodhouse College\, Woodhouse College\, London\, London\, N12 9EY\, United Kingdom
CATEGORIES:Workshop
ATTACH;FMTTYPE=image/jpeg:https://www.dreamofdance.co.uk/wp-content/uploads/2023/11/woodhouse_studio.jpg
ORGANIZER;CN="Joan Lee":MAILTO:info@dreamofdance.co.uk
END:VEVENT
BEGIN:VEVENT
DTSTART;TZID=UTC:20250906T143000
DTEND;TZID=UTC:20250906T163000
DTSTAMP:20260423T021914
CREATED:20231105T090649Z
LAST-MODIFIED:20250916T190343Z
UID:10000009-1757169000-1757176200@www.dreamofdance.co.uk
SUMMARY:Saturday Social Dance
DESCRIPTION:Come join us for relaxing social dance to meet new friends and practise your new steps!
URL:https://www.dreamofdance.co.uk/event/sat-social-dance/2025-09-06/
LOCATION:Woodhouse College\, Woodhouse College\, London\, London\, N12 9EY\, United Kingdom
CATEGORIES:Social Dance
ATTACH;FMTTYPE=image/jpeg:https://www.dreamofdance.co.uk/wp-content/uploads/2023/11/Event5-dj.jpg
ORGANIZER;CN="Joan Lee":MAILTO:info@dreamofdance.co.uk
END:VEVENT
BEGIN:VEVENT
DTSTART;TZID=UTC:20250905T200000
DTEND;TZID=UTC:20250905T220000
DTSTAMP:20260423T021914
CREATED:20231105T090829Z
LAST-MODIFIED:20250916T185338Z
UID:10000288-1757102400-1757109600@www.dreamofdance.co.uk
SUMMARY:Workshop: Foxtrot and Rumba
DESCRIPTION:Are you looking for a way to improve your skills and confidence on the dance floor? Do you want to impress your partner? Then you should sign up for our technique workshops! \nVenue: Woodhouse College Dance Studio\, N12 9EY. Block of 4 classes for £80\, pay at the door for £25
URL:https://www.dreamofdance.co.uk/event/friday-workshop/2025-09-05/
LOCATION:Woodhouse College\, Woodhouse College\, London\, London\, N12 9EY\, United Kingdom
CATEGORIES:Workshop
ATTACH;FMTTYPE=image/jpeg:https://www.dreamofdance.co.uk/wp-content/uploads/2023/11/woodhouse_studio.jpg
ORGANIZER;CN="Joan Lee":MAILTO:info@dreamofdance.co.uk
END:VEVENT
END:VCALENDAR